BEGIN:VCALENDAR
VERSION:2.0
PRODID:-// eRoom plugin //NONSGML v1.0//EN
CALSCALE:GREGORIAN
BEGIN:VEVENT
UID:eRoom-1776673099
SUMMARY:Test Webinar
LOCATION:Zoom
DESCRIPTION:Test Webinar\n\n---\n\nTest Webinar is inviting you to a schedu
 led Zoom meeting.\n\nJoin Zoom Meeting\nhttps://zoom.us/j/96128308549\n\nM
 eeting ID: 96128308549\n
URL;VALUE=URI:https://zoom.us/j/96128308549
DTSTART:20210216T210000Z
DTEND:20210216T211500Z
DTSTAMP:20260420T081819Z
BEGIN:VALARM
ACTION:DISPLAY
DESCRIPTION:Reminder
TRIGGER;RELATED=START:-PT15M
END:VALARM
END:VEVENT
END:VCALENDAR